BEGIN:VCALENDAR
VERSION:2.0
PRODID:-//The Hobby Greenhouse Club - ECPv6.15.20//NONSGML v1.0//EN
CALSCALE:GREGORIAN
METHOD:PUBLISH
X-WR-CALNAME:The Hobby Greenhouse Club
X-ORIGINAL-URL:https://hobbygreenhouseclub.org
X-WR-CALDESC:Events for The Hobby Greenhouse Club
REFRESH-INTERVAL;VALUE=DURATION:PT1H
X-Robots-Tag:noindex
X-PUBLISHED-TTL:PT1H
BEGIN:VTIMEZONE
TZID:America/New_York
BEGIN:DAYLIGHT
TZOFFSETFROM:-0500
TZOFFSETTO:-0400
TZNAME:EDT
DTSTART:20240310T070000
END:DAYLIGHT
BEGIN:STANDARD
TZOFFSETFROM:-0400
TZOFFSETTO:-0500
TZNAME:EST
DTSTART:20241103T060000
END:STANDARD
BEGIN:DAYLIGHT
TZOFFSETFROM:-0500
TZOFFSETTO:-0400
TZNAME:EDT
DTSTART:20250309T070000
END:DAYLIGHT
BEGIN:STANDARD
TZOFFSETFROM:-0400
TZOFFSETTO:-0500
TZNAME:EST
DTSTART:20251102T060000
END:STANDARD
BEGIN:DAYLIGHT
TZOFFSETFROM:-0500
TZOFFSETTO:-0400
TZNAME:EDT
DTSTART:20260308T070000
END:DAYLIGHT
BEGIN:STANDARD
TZOFFSETFROM:-0400
TZOFFSETTO:-0500
TZNAME:EST
DTSTART:20261101T060000
END:STANDARD
END:VTIMEZONE
BEGIN:VEVENT
DTSTART;TZID=America/New_York:20250513T190000
DTEND;TZID=America/New_York:20250513T203000
DTSTAMP:20260423T072524
CREATED:20250105T202015Z
LAST-MODIFIED:20250422T091928Z
UID:1945-1747162800-1747168200@hobbygreenhouseclub.org
SUMMARY:How to Successfully Grow Tomatoes in SE NC with Rich Keegan (May 13\, 2025)
DESCRIPTION:Join us for our monthly meeting. All are welcome. \nThe May 13\, 2025\, meeting will be held at Pine Valley Baptist Church\, Fellowship Hall at 3940 Shipyard Blvd.\, Wilmington at 7:00 pm.\n\nThe guest speaker is Rich Keegan: “How to Successfully Grow Tomatoes in Southeastern NC”\nLearn more about our club at hobbygreenhouseclub.org
URL:https://hobbygreenhouseclub.org/event/hgc-monthly-meeting-may-2025/
LOCATION:Pine Valley Baptist Church (Fellowship Hall)\, 3940 Shipyard Blvd\, Wilmington\, 28403
CATEGORIES:Meeting
END:VEVENT
END:VCALENDAR