BEGIN:VCALENDAR
VERSION:2.0
PRODID:-//The Hobby Greenhouse Club - ECPv6.15.20//NONSGML v1.0//EN
CALSCALE:GREGORIAN
METHOD:PUBLISH
X-WR-CALNAME:The Hobby Greenhouse Club
X-ORIGINAL-URL:https://hobbygreenhouseclub.org
X-WR-CALDESC:Events for The Hobby Greenhouse Club
REFRESH-INTERVAL;VALUE=DURATION:PT1H
X-Robots-Tag:noindex
X-PUBLISHED-TTL:PT1H
BEGIN:VTIMEZONE
TZID:America/New_York
BEGIN:DAYLIGHT
TZOFFSETFROM:-0500
TZOFFSETTO:-0400
TZNAME:EDT
DTSTART:20240310T070000
END:DAYLIGHT
BEGIN:STANDARD
TZOFFSETFROM:-0400
TZOFFSETTO:-0500
TZNAME:EST
DTSTART:20241103T060000
END:STANDARD
BEGIN:DAYLIGHT
TZOFFSETFROM:-0500
TZOFFSETTO:-0400
TZNAME:EDT
DTSTART:20250309T070000
END:DAYLIGHT
BEGIN:STANDARD
TZOFFSETFROM:-0400
TZOFFSETTO:-0500
TZNAME:EST
DTSTART:20251102T060000
END:STANDARD
BEGIN:DAYLIGHT
TZOFFSETFROM:-0500
TZOFFSETTO:-0400
TZNAME:EDT
DTSTART:20260308T070000
END:DAYLIGHT
BEGIN:STANDARD
TZOFFSETFROM:-0400
TZOFFSETTO:-0500
TZNAME:EST
DTSTART:20261101T060000
END:STANDARD
BEGIN:DAYLIGHT
TZOFFSETFROM:-0500
TZOFFSETTO:-0400
TZNAME:EDT
DTSTART:20270314T070000
END:DAYLIGHT
BEGIN:STANDARD
TZOFFSETFROM:-0400
TZOFFSETTO:-0500
TZNAME:EST
DTSTART:20271107T060000
END:STANDARD
END:VTIMEZONE
BEGIN:VEVENT
DTSTART;TZID=America/New_York:20251014T190000
DTEND;TZID=America/New_York:20251014T190000
DTSTAMP:20260420T012206
CREATED:20250105T204140Z
LAST-MODIFIED:20250807T124201Z
UID:1958-1760468400-1760468400@hobbygreenhouseclub.org
SUMMARY:History and Future of NC Cooperative Extension and the NHC Arboretum with Amy Mead (Oct 14\, 2025)
DESCRIPTION:Join us for our monthly meeting. All are welcome. Amy Mead\, Director of the Arboretum\, will join us as this month’s speaker. \nTopic: History and Future of NC Cooperative Extension and the NHC Arboretum\nJoin new County Extension Director\, Amy Mead\, to learn about NC Cooperative Extension and the New Hanover County Arboretum. Amy will explore the history\, mission\, and impact of Extension programs in our community\, along with a look at how the Arboretum continues to grow as a hub for horticulture\, education\, and natural resource stewardship. \nAmy bio:\nAmy Mead serves as the County Extension Director for NC Cooperative Extension and Director of the New Hanover County Arboretum. Amy’s expertise includes coastal plant ecology\, water quality\, and sustainable landscaping\, developed through years of hands-on work and research. As the County Extension Director for New Hanover County\, she assists municipalities\, professionals\, HOAs\, and residents in the areas of stormwater pond management\, aquatic pesticide licensing\, aquatic weed management\, and coastal landscaping. In addition\, Amy is an ISA certified Arborist and is passionate about native trees\, urban forestry\, and proper tree maintenance. \nLearn more about our club at hobbygreenhouseclub.org
URL:https://hobbygreenhouseclub.org/event/hgc-monthly-meeting-oct-2025/
LOCATION:Arboretum\, 6206 Oleander Dr\, Wilmington\, NC\, 28403\, United States
CATEGORIES:Meeting
END:VEVENT
BEGIN:VEVENT
DTSTART;TZID=America/New_York:20251111T190000
DTEND;TZID=America/New_York:20251111T190000
DTSTAMP:20260420T012206
CREATED:20250105T204310Z
LAST-MODIFIED:20251107T203739Z
UID:1960-1762887600-1762887600@hobbygreenhouseclub.org
SUMMARY:HGC Monthly Meeting: Officer Elections (Nov 11\, 2025)
DESCRIPTION:Join us for our monthly meeting\, in which we’ll elect next year’s officers. All are welcome. Learn more about our club at hobbygreenhouseclub.org
URL:https://hobbygreenhouseclub.org/event/hgc-monthly-meeting-nov-2025/
LOCATION:Arboretum\, 6206 Oleander Dr\, Wilmington\, NC\, 28403\, United States
CATEGORIES:Meeting
END:VEVENT
BEGIN:VEVENT
DTSTART;TZID=America/New_York:20260113T190000
DTEND;TZID=America/New_York:20260113T190000
DTSTAMP:20260420T012206
CREATED:20251207T230345Z
LAST-MODIFIED:20260110T205659Z
UID:2040-1768330800-1768330800@hobbygreenhouseclub.org
SUMMARY:HGC Monthly Meeting (Jan 13): The Scented Geranium with Sally Jernigan
DESCRIPTION:The topic of our meeting January 13th (7pm\, Arboretum) is The Scented Geranium. I will be presenting it and will bring different type to be felt and smelt. Examples supplied by Shelton Herb Farm.
URL:https://hobbygreenhouseclub.org/event/hgc-monthly-meeting-jan-13/
LOCATION:Arboretum\, 6206 Oleander Dr\, Wilmington\, NC\, 28403\, United States
CATEGORIES:Meeting
END:VEVENT
BEGIN:VEVENT
DTSTART;TZID=America/New_York:20260210T190000
DTEND;TZID=America/New_York:20260210T190000
DTSTAMP:20260420T012206
CREATED:20251207T230553Z
LAST-MODIFIED:20260208T135100Z
UID:2042-1770750000-1770750000@hobbygreenhouseclub.org
SUMMARY:HGC Monthly Meeting (Feb 10): Native Plants with Duane Truscott
DESCRIPTION:
URL:https://hobbygreenhouseclub.org/event/hgc-monthly-meeting-feb-10/
LOCATION:Arboretum\, 6206 Oleander Dr\, Wilmington\, NC\, 28403\, United States
CATEGORIES:Meeting
END:VEVENT
BEGIN:VEVENT
DTSTART;TZID=America/New_York:20260312T190000
DTEND;TZID=America/New_York:20260312T190000
DTSTAMP:20260420T012206
CREATED:20251207T230657Z
LAST-MODIFIED:20260306T233524Z
UID:2044-1773342000-1773342000@hobbygreenhouseclub.org
SUMMARY:HGC Monthly Meeting: March 12: Propagating Plumeria
DESCRIPTION:When: (NEW NIGHT)     Thursday\, March 12\, 2026\, at 7:00 pm \nWhere: (NEW LOCATION)    Seagate Baptist Church Fellowship Hall \nDirections: Seagate Baptist Church is located about a block from the Arboretum on the opposite side of the road at 6115 Oleander Dr.\, Wilmington. The meeting site is off the side street next to the church on Bagley Ave. So\, you will turn off Oleander onto Bagley Ave. and look for the Hobby Greenhouse Yellow/ with black arrow directional signs that will be at the corner of Oleander and Bagley and on Bagley going to the parking lot. (These are the signs used for the Greenhouse Tour) \nGuest Speaker: Jenny Keeling-  “Propagating Plumeria”
URL:https://hobbygreenhouseclub.org/event/hgc-monthly-meeting-march-12/
LOCATION:Seagate Baptist Church\, 6115 Oleander Dr\, Wilmington\, NC\, 28403
CATEGORIES:Meeting
END:VEVENT
BEGIN:VEVENT
DTSTART;TZID=America/New_York:20260514T190000
DTEND;TZID=America/New_York:20260514T190000
DTSTAMP:20260420T012206
CREATED:20251207T230925Z
LAST-MODIFIED:20260405T162939Z
UID:2048-1778785200-1778785200@hobbygreenhouseclub.org
SUMMARY:HGC Monthly Meeting: Thurs May 14
DESCRIPTION:
URL:https://hobbygreenhouseclub.org/event/hgc-monthly-meeting-may-14/
LOCATION:Seagate Baptist Church\, 6115 Oleander Dr\, Wilmington\, NC\, 28403
CATEGORIES:Meeting
END:VEVENT
BEGIN:VEVENT
DTSTART;TZID=America/New_York:20260611T190000
DTEND;TZID=America/New_York:20260611T190000
DTSTAMP:20260420T012206
CREATED:20251207T231123Z
LAST-MODIFIED:20260307T004707Z
UID:2050-1781204400-1781204400@hobbygreenhouseclub.org
SUMMARY:HGC Monthly Meeting: (June Date TBD)
DESCRIPTION:
URL:https://hobbygreenhouseclub.org/event/hgc-monthly-meeting-container-contest-june-11/
LOCATION:TBD
CATEGORIES:Meeting
END:VEVENT
BEGIN:VEVENT
DTSTART;TZID=America/New_York:20260716T190000
DTEND;TZID=America/New_York:20260716T190000
DTSTAMP:20260420T012206
CREATED:20251207T231222Z
LAST-MODIFIED:20260307T004800Z
UID:2052-1784228400-1784228400@hobbygreenhouseclub.org
SUMMARY:HGC Monthly Meeting: (July Date TBD)
DESCRIPTION:
URL:https://hobbygreenhouseclub.org/event/hgc-monthly-meeting-july-16/
LOCATION:TBD
CATEGORIES:Meeting
END:VEVENT
BEGIN:VEVENT
DTSTART;TZID=America/New_York:20260813T190000
DTEND;TZID=America/New_York:20260813T190000
DTSTAMP:20260420T012206
CREATED:20251207T231313Z
LAST-MODIFIED:20260307T004937Z
UID:2054-1786647600-1786647600@hobbygreenhouseclub.org
SUMMARY:HGC Monthly Meeting: (Aug Date TBD)
DESCRIPTION:
URL:https://hobbygreenhouseclub.org/event/hgc-monthly-meeting-aug-13/
LOCATION:TBD
CATEGORIES:Meeting
END:VEVENT
BEGIN:VEVENT
DTSTART;TZID=America/New_York:20261015T190000
DTEND;TZID=America/New_York:20261015T190000
DTSTAMP:20260420T012206
CREATED:20251207T231526Z
LAST-MODIFIED:20260307T004550Z
UID:2058-1792090800-1792090800@hobbygreenhouseclub.org
SUMMARY:HGC Monthly Meeting: (Oct Date TBD)
DESCRIPTION:
URL:https://hobbygreenhouseclub.org/event/hgc-monthly-meeting-oct-15/
LOCATION:TBD
CATEGORIES:Meeting
END:VEVENT
BEGIN:VEVENT
DTSTART;TZID=America/New_York:20261112T190000
DTEND;TZID=America/New_York:20261112T190000
DTSTAMP:20260420T012206
CREATED:20251207T231623Z
LAST-MODIFIED:20260307T004448Z
UID:2060-1794510000-1794510000@hobbygreenhouseclub.org
SUMMARY:HGC Monthly Meeting: (Nov Date TBD)
DESCRIPTION:
URL:https://hobbygreenhouseclub.org/event/hgc-monthly-meeting-nov-12/
LOCATION:TBD
CATEGORIES:Meeting
END:VEVENT
BEGIN:VEVENT
DTSTART;TZID=America/New_York:20261210T180000
DTEND;TZID=America/New_York:20261210T180000
DTSTAMP:20260420T012206
CREATED:20251207T231726Z
LAST-MODIFIED:20260306T235027Z
UID:2062-1796925600-1796925600@hobbygreenhouseclub.org
SUMMARY:HGC Monthly Meeting & Holiday Potluck Dinner
DESCRIPTION:
URL:https://hobbygreenhouseclub.org/event/hgc-monthly-meeting-holiday-potluck-dinner/
LOCATION:TBD
CATEGORIES:Meeting,Potluck
END:VEVENT
END:VCALENDAR